BEGIN:VCALENDAR
VERSION:2.0
PRODID:-//Conservative Journal of Canada - ECPv6.6.2//NONSGML v1.0//EN
CALSCALE:GREGORIAN
METHOD:PUBLISH
X-WR-CALNAME:Conservative Journal of Canada
X-ORIGINAL-URL:https://www.conservativejournal.ca
X-WR-CALDESC:Events for Conservative Journal of Canada
REFRESH-INTERVAL;VALUE=DURATION:PT1H
X-Robots-Tag:noindex
X-PUBLISHED-TTL:PT1H
BEGIN:VTIMEZONE
TZID:America/Toronto
BEGIN:DAYLIGHT
TZOFFSETFROM:-0500
TZOFFSETTO:-0400
TZNAME:EDT
DTSTART:20180311T070000
END:DAYLIGHT
BEGIN:STANDARD
TZOFFSETFROM:-0400
TZOFFSETTO:-0500
TZNAME:EST
DTSTART:20181104T060000
END:STANDARD
END:VTIMEZONE
BEGIN:VEVENT
DTSTART;TZID=America/Toronto:20181221T113000
DTEND;TZID=America/Toronto:20181221T150000
DTSTAMP:20260424T215627
CREATED:20181125T222511Z
LAST-MODIFIED:20181125T222511Z
UID:3263-1545391800-1545404400@www.conservativejournal.ca
SUMMARY:Christmas Walkaround
DESCRIPTION:Family\, Friends & Colleagues All Welcome!\nDon’t miss our highlight holiday event. Enjoy the entire building – 2 gourmet festive buffets –VIP chefs – Christmas choristers – and so much more.\nFriday\, December 21st\, 2018\nReception: 11:30 pm | Buffet Open: 12:00 pm – 2:30 pm\nMembers: $59pp • Guests: $75pp\n(taxes and house charges extra)\nVIEW FLYER
URL:https://www.conservativejournal.ca/event/christmas-walkaround/
LOCATION:Albany Club\, 91 King Street East\, Toronto\, Ontario\, M5C 1G3\, Canada
CATEGORIES:Christmas Party
ORGANIZER;CN="Albany%20Club":MAILTO:reservations@albanyclub.ca
END:VEVENT
END:VCALENDAR